BEGIN:VCALENDAR
VERSION:2.0
PRODID:-//Contratero//ES
CALSCALE:GREGORIAN
METHOD:PUBLISH
BEGIN:VEVENT
UID:FMV/SG/NO SARA P. AB. 09/2021@contratero.es
DTSTAMP:20260424T162432Z
DTSTART:20211211T235959
DTEND:20211212T005959
SUMMARY:Cierre: Contrato de servicio para el desarrollo y mantenim
DESCRIPTION:Contrato de servicio para el desarrollo y mantenimiento del Portal Web y Community Management de la Fundación Marqués de Valdecilla. Expediente FMV/SG/NO SARA P. AB. 09/2021.\\n\\nOrganismo: Gerencia de la Fundación Marqués de Valdecilla\\n\\nVer en Contratero: https://contratero.es/contracts/FMV/SG/NO SARA P. AB. 09/2021
URL:https://contratero.es/contracts/FMV/SG/NO SARA P. AB. 09/2021
STATUS:CONFIRMED
BEGIN:VALARM
TRIGGER:-P1D
ACTION:DISPLAY
DESCRIPTION:Recordatorio: Contrato de servicio para el d
END:VALARM
END:VEVENT
END:VCALENDAR